BEGIN:VCALENDAR
VERSION:2.0
PRODID:-//ExpressionEngine Easy iCalendar plugin//NONSGML v2.0.0//EN
X-WR-TIMEZONE:America/Chicago
X-WR-CALNAME:Upcoming Auctions
BEGIN:VEVENT
UID:124504
DTSTAMP:20240730T170000
DTSTART:20240730T170000
DTEND:20240730T180000
SUMMARY:ESTATE AUCTION
LOCATION:13312 Lowell Avenue\, Grandview\, MO 64030\, US
DESCRIPTION:Dale Hayes Gladish Estate | Collectibles\, Furniture\, Tools\, 
 Appliances\, Home Decor\, Household Goods\, & Much More!
URL:https://www.auctionskc.com/auctions/detail/bw124504
SEQUENCE:1
END:VEVENT
END:VCALENDAR