BEGIN:VCALENDAR
VERSION:2.0
PRODID:-//ExpressionEngine Easy iCalendar plugin//NONSGML v2.0.0//EN
X-WR-TIMEZONE:America/Chicago
X-WR-CALNAME:Upcoming Auctions
BEGIN:VEVENT
UID:124507
DTSTAMP:20240802T163000
DTSTART:20240802T163000
DTEND:20240802T173000
SUMMARY:REAL ESTATE & PERSONAL PROPERTY AUCTION
LOCATION:718 SW Williams Street\, Lee's Summit\, MO 64081\, US
DESCRIPTION:Lynn Mclanahan Estate | Real Estate\, Tools\, Shop Equipment\, 
 Collectibles\, Furniture\, Appliances\, Home Decor\, Household G
 oods\, & Much More!
URL:https://www.auctionskc.com/auctions/detail/bw124507
SEQUENCE:1
END:VEVENT
END:VCALENDAR