BEGIN:VCALENDAR
VERSION:2.0
PRODID:-//ExpressionEngine Easy iCalendar plugin//NONSGML v2.0.0//EN
X-WR-TIMEZONE:America/Chicago
X-WR-CALNAME:Upcoming Auctions
BEGIN:VEVENT
UID:124736
DTSTAMP:20240804T110000
DTSTART:20240804T110000
DTEND:20240804T120000
SUMMARY:ESTATE AUCTION
LOCATION:134 NE 47th Street\, Kansas City\, MO 64116\, US
DESCRIPTION:Jim Shanks Estate | Vehicles\, Food Truck\, Motor Scooters\, Gu
 ns\, Jewelry\, Collectibles\, Furniture\, Tools\, Home Decor\, Hou
 sehold Goods\, & Much More!
URL:https://www.auctionskc.com/auctions/detail/bw124736
SEQUENCE:1
END:VEVENT
END:VCALENDAR