BEGIN:VCALENDAR
VERSION:2.0
PRODID:-//ExpressionEngine Easy iCalendar plugin//NONSGML v2.0.0//EN
X-WR-TIMEZONE:America/Chicago
X-WR-CALNAME:Upcoming Auctions
BEGIN:VEVENT
UID:124760
DTSTAMP:20240925T140000
DTSTART:20240925T140000
DTEND:20240925T150000
SUMMARY:PODS of Kansas City Storage Vault Auction
LOCATION:14220 Norby Road\, Grandview\, MO 64030\, US
DESCRIPTION:PODS of Kansas City | 10+/- Units to be Sold to the Highest 
 Bidder!
URL:https://www.auctionskc.com/auctions/detail/bw124760
SEQUENCE:1
END:VEVENT
END:VCALENDAR