BEGIN:VCALENDAR
VERSION:2.0
PRODID:-//ExpressionEngine Easy iCalendar plugin//NONSGML v2.0.0//EN
X-WR-TIMEZONE:America/Chicago
X-WR-CALNAME:Upcoming Auctions
BEGIN:VEVENT
UID:124761
DTSTAMP:20240806T170000
DTSTART:20240806T170000
DTEND:20240806T180000
SUMMARY:LIVING ESTATE AUCTION
LOCATION:4105 NE Chapel Manor Drive\, Lee's Summit\, MO 64064\, US
DESCRIPTION:Jon & Lynette Starek Living Estate | Collectibles\, Furnitur
 e\, Tools\, Home Decor\, Household Goods\, & Much More!
URL:https://www.auctionskc.com/auctions/detail/bw124761
SEQUENCE:1
END:VEVENT
END:VCALENDAR