BEGIN:VCALENDAR
VERSION:2.0
PRODID:-//ExpressionEngine Easy iCalendar plugin//NONSGML v2.0.0//EN
X-WR-TIMEZONE:America/Chicago
X-WR-CALNAME:Upcoming Auctions
BEGIN:VEVENT
UID:124762
DTSTAMP:20240809T160000
DTSTART:20240809T160000
DTEND:20240809T170000
SUMMARY:FARM ESTATE AUCTION
LOCATION:1464 Sand Creek Road\, Pomona\, KS 66076\, US
DESCRIPTION:Vernon Eugene Williams Estate | Tractors\, Farm Equipment\, T
 ools\, Scrap\, & Much More!
URL:https://www.auctionskc.com/auctions/detail/bw124762
SEQUENCE:1
END:VEVENT
END:VCALENDAR