BEGIN:VCALENDAR
VERSION:2.0
PRODID:-//ExpressionEngine Easy iCalendar plugin//NONSGML v2.0.0//EN
X-WR-TIMEZONE:America/Chicago
X-WR-CALNAME:Upcoming Auctions
BEGIN:VEVENT
UID:124764
DTSTAMP:20240823T160000
DTSTART:20240823T160000
DTEND:20240823T170000
SUMMARY:FARM AUCTION
LOCATION:21400 Dry Lake Road\, Kansas City\, MO 64153\, US
DESCRIPTION:The Horn Family | Tractors\, Truck\, Farm Equipment\, Tools\, G
 uns\, Scrap\, Collectibles\, Furniture\, Household\, & Much More!
URL:https://www.auctionskc.com/auctions/detail/bw124764
SEQUENCE:1
END:VEVENT
END:VCALENDAR