BEGIN:VCALENDAR
VERSION:2.0
PRODID:-//ExpressionEngine Easy iCalendar plugin//NONSGML v2.0.0//EN
X-WR-TIMEZONE:America/Chicago
X-WR-CALNAME:Upcoming Auctions
BEGIN:VEVENT
UID:125262
DTSTAMP:20240807T180000
DTSTART:20240807T180000
DTEND:20240807T190000
SUMMARY:ESTATE AUCTION
LOCATION:2423 NE 107th Terrace\, Kansas City\, MO 64155\, US
DESCRIPTION:Coming Soon! | Furniture\, Home Decor\, Household Goods\, & Muc
 h More!
URL:https://www.auctionskc.com/auctions/detail/bw125262
SEQUENCE:1
END:VEVENT
END:VCALENDAR