BEGIN:VCALENDAR
VERSION:2.0
PRODID:-//ExpressionEngine Easy iCalendar plugin//NONSGML v2.0.0//EN
X-WR-TIMEZONE:America/Chicago
X-WR-CALNAME:Upcoming Auctions
BEGIN:VEVENT
UID:125272
DTSTAMP:20240811T110000
DTSTART:20240811T110000
DTEND:20240811T120000
SUMMARY:HUGE COLLECTOR'S AUCTION
LOCATION:213 S. Shrank Avenue\, Independence\, MO 64056\, US
DESCRIPTION:Private Seller | Lifetime Collections of Antiques\, Collectib
 les\, Jewelry\, Coins\, Glassware\, Furniture\, Tools\, Home Decor
 \, Household Goods\, & Much More!
URL:https://www.auctionskc.com/auctions/detail/bw125272
SEQUENCE:1
END:VEVENT
END:VCALENDAR