BEGIN:VCALENDAR
VERSION:2.0
PRODID:-//ExpressionEngine Easy iCalendar plugin//NONSGML v2.0.0//EN
X-WR-TIMEZONE:America/Chicago
X-WR-CALNAME:Upcoming Auctions
BEGIN:VEVENT
UID:125356
DTSTAMP:20240825T110000
DTSTART:20240825T110000
DTEND:20240825T120000
SUMMARY:LIVING ESTATE AUCTION
LOCATION:1410 N. Charlton Road\, Independence\, MO 64056\, US
DESCRIPTION:Kenneth Vaughan Living Estate | Tractor\, Farm Equipment\, Co
 llectibles\, Furniture\, Tools\, Home Decor\, Household Goods\, &
  Much More!
URL:https://www.auctionskc.com/auctions/detail/bw125356
SEQUENCE:1
END:VEVENT
END:VCALENDAR