BEGIN:VCALENDAR
VERSION:2.0
PRODID:-//ExpressionEngine Easy iCalendar plugin//NONSGML v2.0.0//EN
X-WR-TIMEZONE:America/Chicago
X-WR-CALNAME:Upcoming Auctions
BEGIN:VEVENT
UID:125359
DTSTAMP:20240917T160000
DTSTART:20240917T160000
DTEND:20240917T170000
SUMMARY:TREASURE HUNT ESTATE AUCTION
LOCATION:218 Oakhill Street\, Lansing\, KS 66043\, US
DESCRIPTION:David L. Meredith Estate | Motorhome\, Collectibles\, Furnitu
 re\, Tools\, Appliances\, Home Decor\, Household Goods\, & Much M
 ore!
URL:https://www.auctionskc.com/auctions/detail/bw125359
SEQUENCE:1
END:VEVENT
END:VCALENDAR