BEGIN:VCALENDAR
VERSION:2.0
PRODID:-//ExpressionEngine Easy iCalendar plugin//NONSGML v2.0.0//EN
X-WR-TIMEZONE:America/Chicago
X-WR-CALNAME:Upcoming Auctions
BEGIN:VEVENT
UID:125846
DTSTAMP:20240822T170000
DTSTART:20240822T170000
DTEND:20240822T180000
SUMMARY:REAL ESTATE & PERSONAL PROPERTY AUCTION
LOCATION:7508 N. Highland Avenue\, Kansas City\, MO 64118\, US
DESCRIPTION:David W. Reyburn Estate | Real Estate\, Collectibles\, Furnitu
 re\, Tools\, Lawn Tractor\, Trailer\, Appliances\, Home Decor\, Ho
 usehold Goods\, & Much More!
URL:https://www.auctionskc.com/auctions/detail/bw125846
SEQUENCE:1
END:VEVENT
END:VCALENDAR