BEGIN:VCALENDAR
VERSION:2.0
PRODID:-//ExpressionEngine Easy iCalendar plugin//NONSGML v2.0.0//EN
X-WR-TIMEZONE:America/Chicago
X-WR-CALNAME:Upcoming Auctions
BEGIN:VEVENT
UID:126051
DTSTAMP:20240821T170000
DTSTART:20240821T170000
DTEND:20240821T180000
SUMMARY:ESTATE AUCTION
LOCATION:7816 W. 100th Place\, Overland Park\, KS 66212\, US
DESCRIPTION:Christine L. Gaughan Estate | Collectibles\, Furniture\, Home
  Decor\, Household Goods\, & Much More!
URL:https://www.auctionskc.com/auctions/detail/bw126051
SEQUENCE:1
END:VEVENT
END:VCALENDAR