BEGIN:VCALENDAR
VERSION:2.0
PRODID:-//ExpressionEngine Easy iCalendar plugin//NONSGML v2.0.0//EN
X-WR-TIMEZONE:America/Chicago
X-WR-CALNAME:Upcoming Auctions
BEGIN:VEVENT
UID:126626
DTSTAMP:20240907T103000
DTSTART:20240907T103000
DTEND:20240907T113000
SUMMARY:REAL ESTATE & PERSONAL PROPERTY AUCTION
LOCATION:2920 Joslin Lane\, St. Joseph\, MO 64506\, US
DESCRIPTION:Elaine Hughes Estate | Sharp True Ranch off Lover's Lane Plu
 s Furniture\, Jewelry\, Collectibles\, Tools\, Appliances\, Home 
 Decor\, Household Goods\, & Much More!
URL:https://www.auctionskc.com/auctions/detail/bw126626
SEQUENCE:1
END:VEVENT
END:VCALENDAR