BEGIN:VCALENDAR
VERSION:2.0
PRODID:-//ExpressionEngine Easy iCalendar plugin//NONSGML v2.0.0//EN
X-WR-TIMEZONE:America/Chicago
X-WR-CALNAME:Upcoming Auctions
BEGIN:VEVENT
UID:126739
DTSTAMP:20240902T120000
DTSTART:20240902T120000
DTEND:20240902T130000
SUMMARY:SPECIAL HOLIDAY ESTATE AUCTION
LOCATION:2415 E. 126th Street\, Kansas City\, MO 64146\, US
DESCRIPTION:William & Deloris Ray Estate | Collectibles\, Coke Machine\, G
 uns\, Jewelry\, Coins\, Furniture\, Lawn Tractors\, Tools\, Applia
 nces\, Home Decor\, Household Goods\, & Much More!
URL:https://www.auctionskc.com/auctions/detail/bw126739
SEQUENCE:1
END:VEVENT
END:VCALENDAR