BEGIN:VCALENDAR
VERSION:2.0
PRODID:-//ExpressionEngine Easy iCalendar plugin//NONSGML v2.0.0//EN
X-WR-TIMEZONE:America/Chicago
X-WR-CALNAME:Upcoming Auctions
BEGIN:VEVENT
UID:127949
DTSTAMP:20240920T170000
DTSTART:20240920T170000
DTEND:20240920T180000
SUMMARY:ESTATE AUCTION
LOCATION:8405 Northern Street\, Raytown\, MO 64138\, US
DESCRIPTION:Alice McMahan Estate | Vehicles\, Collectibles\, Art\, Furnitur
 e\, Home Decor\, Household Goods\, & Much More!
URL:https://www.auctionskc.com/auctions/detail/bw127949
SEQUENCE:1
END:VEVENT
END:VCALENDAR