BEGIN:VCALENDAR
VERSION:2.0
PRODID:-//ExpressionEngine Easy iCalendar plugin//NONSGML v2.0.0//EN
X-WR-TIMEZONE:America/Chicago
X-WR-CALNAME:Upcoming Auctions
BEGIN:VEVENT
UID:128019
DTSTAMP:20240919T160000
DTSTART:20240919T160000
DTEND:20240919T170000
SUMMARY:LAST MINUTE EMERGENCY ESTATE AUCTION
LOCATION:14406 E. 40th Terrace S\, Independence\, MO 64055\, US
DESCRIPTION:Thomas & Janelle Herrick Living Estate | Collectibles\, Jewel
 ry\, Furniture\, Tools\, Home Decor\, Household Goods\, & Much Mo
 re!
URL:https://www.auctionskc.com/auctions/detail/bw128019
SEQUENCE:1
END:VEVENT
END:VCALENDAR