BEGIN:VCALENDAR
VERSION:2.0
PRODID:-//ExpressionEngine Easy iCalendar plugin//NONSGML v2.0.0//EN
X-WR-TIMEZONE:America/Chicago
X-WR-CALNAME:Upcoming Auctions
BEGIN:VEVENT
UID:128020
DTSTAMP:20240924T170000
DTSTART:20240924T170000
DTEND:20240924T180000
SUMMARY:LIVING ESTATE AUCTION
LOCATION:801 S. Savage Street\, Independence\, MO 64050\, US
DESCRIPTION:Karen Hawley Living Estate | Furniture\, Collectibles\, Home D
 ecor\, Household Goods\, & Much More!
URL:https://www.auctionskc.com/auctions/detail/bw128020
SEQUENCE:1
END:VEVENT
END:VCALENDAR