BEGIN:VCALENDAR
VERSION:2.0
PRODID:-//ExpressionEngine Easy iCalendar plugin//NONSGML v2.0.0//EN
X-WR-TIMEZONE:America/Chicago
X-WR-CALNAME:Upcoming Auctions
BEGIN:VEVENT
UID:128188
DTSTAMP:20240928T103000
DTSTART:20240928T103000
DTEND:20240928T113000
SUMMARY:ESTATE AUCTION
LOCATION:38188 Park Avenue\, Camden\, MO 64017\, US
DESCRIPTION:Melvin J. Harmon Estate | Vehicle\, Collectibles\, Guns\, Furni
 ture\, Tools\, Home Decor\, Household Goods\, & Much More!
URL:https://www.auctionskc.com/auctions/detail/bw128188
SEQUENCE:1
END:VEVENT
END:VCALENDAR