BEGIN:VCALENDAR
VERSION:2.0
PRODID:-//ExpressionEngine Easy iCalendar plugin//NONSGML v2.0.0//EN
X-WR-TIMEZONE:America/Chicago
X-WR-CALNAME:Upcoming Auctions
BEGIN:VEVENT
UID:128363
DTSTAMP:20241006T110000
DTSTART:20241006T110000
DTEND:20241006T120000
SUMMARY:ESTATE AUCTION
LOCATION:19280 S. Hedge Lane\, Spring Hill\, KS 66083\, US
DESCRIPTION:Bowman Family Estate | Trailers\, Vehicles\, Equipment\, Colle
 ctibles\, Jewelry\, Furniture\, Appliances\, Yard Art\, Tools\, Ho
 me Decor\, Household Goods\, & Much More!
URL:https://www.auctionskc.com/auctions/detail/bw128363
SEQUENCE:1
END:VEVENT
END:VCALENDAR