BEGIN:VCALENDAR
VERSION:2.0
PRODID:-//ExpressionEngine Easy iCalendar plugin//NONSGML v2.0.0//EN
X-WR-TIMEZONE:America/Chicago
X-WR-CALNAME:Upcoming Auctions
BEGIN:VEVENT
UID:128364
DTSTAMP:20241002T160000
DTSTART:20241002T160000
DTEND:20241002T170000
SUMMARY:LIVING ESTATE AUCTION
LOCATION:25715 E. 32nd Street South\, Blue Springs\, MO 64015\, US
DESCRIPTION:O'Dell Living Estate | Antiques\, Collectibles\, Sterling\, Ju
 kebox\, Furniture\, Tools\, Home Decor\, Household Goods\, & Much
  More!
URL:https://www.auctionskc.com/auctions/detail/bw128364
SEQUENCE:1
END:VEVENT
END:VCALENDAR