BEGIN:VCALENDAR
VERSION:2.0
PRODID:-//ExpressionEngine Easy iCalendar plugin//NONSGML v2.0.0//EN
X-WR-TIMEZONE:America/Chicago
X-WR-CALNAME:Upcoming Auctions
BEGIN:VEVENT
UID:128712
DTSTAMP:20241004T160000
DTSTART:20241004T160000
DTEND:20241004T170000
SUMMARY:TRUST ORDERED AUCTION
LOCATION:1621 S. Ann Court\, Independence\, MO 64057\, US
DESCRIPTION:The Reimal Family Trust | 2 Vehicles\, Antiques\, Collectible
 s\, Furniture\, Tools\, Appliances\, Home Decor\, Household Goods
 \, & Much More!
URL:https://www.auctionskc.com/auctions/detail/bw128712
SEQUENCE:1
END:VEVENT
END:VCALENDAR