BEGIN:VCALENDAR
VERSION:2.0
PRODID:-//ExpressionEngine Easy iCalendar plugin//NONSGML v2.0.0//EN
X-WR-TIMEZONE:America/Chicago
X-WR-CALNAME:Upcoming Auctions
BEGIN:VEVENT
UID:129081
DTSTAMP:20241009T163000
DTSTART:20241009T163000
DTEND:20241009T173000
SUMMARY:LIVING ESTATE AUCTION
LOCATION:716 NE 98th Terrace\, Kansas City\, MO 64155\, US
DESCRIPTION:Sollman Living Estate | John Deere Lawn Tractor\, Antiques\, C
 ollectibles\, Vintage Toys\, Furniture\, Tools\, Appliances\, Hom
 e Decor\, Household Goods\, & Much More!
URL:https://www.auctionskc.com/auctions/detail/bw129081
SEQUENCE:1
END:VEVENT
END:VCALENDAR