BEGIN:VCALENDAR
VERSION:2.0
PRODID:-//ExpressionEngine Easy iCalendar plugin//NONSGML v2.0.0//EN
X-WR-TIMEZONE:America/Chicago
X-WR-CALNAME:Upcoming Auctions
BEGIN:VEVENT
UID:129767
DTSTAMP:20241021T163000
DTSTART:20241021T163000
DTEND:20241021T173000
SUMMARY:ANTIQUE COLLECTOR'S LIVING ESTATE AUCTION
LOCATION:7111 E. 111th Street\, Kansas City\, MO 64134\, US
DESCRIPTION:Living Estate of Charles Tyler | Antiques\, Collectibles\, Ant
 ique Furniture\, Quilts\, Dolls\, Primitives\, Home Decor\, House
 hold Goods\, & Much More!
URL:https://www.auctionskc.com/auctions/detail/bw129767
SEQUENCE:1
END:VEVENT
END:VCALENDAR