BEGIN:VCALENDAR
VERSION:2.0
PRODID:-//ExpressionEngine Easy iCalendar plugin//NONSGML v2.0.0//EN
X-WR-TIMEZONE:America/Chicago
X-WR-CALNAME:Upcoming Auctions
BEGIN:VEVENT
UID:129793
DTSTAMP:20241023T163000
DTSTART:20241023T163000
DTEND:20241023T173000
SUMMARY:REAL ESTATE & PERSONAL PROPERTY AUCTION
LOCATION:1628 SE 1st Terrace\, Blue Springs\, MO 64014\, US
DESCRIPTION:Margaret L. Butner Estate | 3 Bedroom\, 2.5 Bath Raised Ranch
  PLUS Collectibles\, Furniture\, Appliances\, Tools\, Home Decor
 \, Household Goods\, & Much More! 
URL:https://www.auctionskc.com/auctions/detail/bw129793
SEQUENCE:1
END:VEVENT
END:VCALENDAR