BEGIN:VCALENDAR
VERSION:2.0
PRODID:-//ExpressionEngine Easy iCalendar plugin//NONSGML v2.0.0//EN
X-WR-TIMEZONE:America/Chicago
X-WR-CALNAME:Upcoming Auctions
BEGIN:VEVENT
UID:129795
DTSTAMP:20241026T103000
DTSTART:20241026T103000
DTEND:20241026T113000
SUMMARY:BUSINESS LIQUIDATION PLUS ESTATE AUCTION
LOCATION:107 E. 31st Street S.\, Independence\, MO 64055\, US
DESCRIPTION:Independence Collision Repair | Tools\, Trailer\, Shop Equipm
 ent\, Auto Parts\, Collectibles\, Furniture\, Home Decor\, Househ
 old Goods\, & Much More!
URL:https://www.auctionskc.com/auctions/detail/bw129795
SEQUENCE:1
END:VEVENT
END:VCALENDAR