BEGIN:VCALENDAR
VERSION:2.0
PRODID:-//ExpressionEngine Easy iCalendar plugin//NONSGML v2.0.0//EN
X-WR-TIMEZONE:America/Chicago
X-WR-CALNAME:Upcoming Auctions
BEGIN:VEVENT
UID:130129
DTSTAMP:20241027T110000
DTSTART:20241027T110000
DTEND:20241027T120000
SUMMARY:HUGE ESTATE AUCTION
LOCATION:14723 W. 65th Terrace\, Shawnee\, KS 66216\, US
DESCRIPTION:Terry Roberts Estate | Pinball Machine\, Jewelry\, Collectible
 s\, QVC Items\, Furniture\, Home Decor\, Household Goods\, & Much
  More!
URL:https://www.auctionskc.com/auctions/detail/bw130129
SEQUENCE:1
END:VEVENT
END:VCALENDAR