BEGIN:VCALENDAR
VERSION:2.0
PRODID:-//ExpressionEngine Easy iCalendar plugin//NONSGML v2.0.0//EN
X-WR-TIMEZONE:America/Chicago
X-WR-CALNAME:Upcoming Auctions
BEGIN:VEVENT
UID:130181
DTSTAMP:20241102T103000
DTSTART:20241102T103000
DTEND:20241102T113000
SUMMARY:REAL ESTATE & PERSONAL PROPERTY AUCTION
LOCATION:509 N. Jefferson Street\, Raymore\, MO 64083\, US
DESCRIPTION:Harriett Dunagan Estate | 3 Bedroom True Ranch Plus Collecti
 bles\, Furniture\, ZTR Mower\, Tools\, Appliances\, Yard Art\, Hom
 e Decor\, Household Goods\, & Much More!
URL:https://www.auctionskc.com/auctions/detail/bw130181
SEQUENCE:1
END:VEVENT
END:VCALENDAR