BEGIN:VCALENDAR
VERSION:2.0
PRODID:-//ExpressionEngine Easy iCalendar plugin//NONSGML v2.0.0//EN
X-WR-TIMEZONE:America/Chicago
X-WR-CALNAME:Upcoming Auctions
BEGIN:VEVENT
UID:130439
DTSTAMP:20241110T110000
DTSTART:20241110T110000
DTEND:20241110T120000
SUMMARY:ESTATE AUCTION
LOCATION:12707 Crystal Avenue\, Grandview\, MO 64030\, US
DESCRIPTION:Herbert Weldon Estate | Antiques\, Collectibles\, Furniture\, 
 Tools\, Home Decor\, Household Goods\, & Much More!
URL:https://www.auctionskc.com/auctions/detail/bw130439
SEQUENCE:1
END:VEVENT
END:VCALENDAR