BEGIN:VCALENDAR
VERSION:2.0
PRODID:-//ExpressionEngine Easy iCalendar plugin//NONSGML v2.0.0//EN
X-WR-TIMEZONE:America/Chicago
X-WR-CALNAME:Upcoming Auctions
BEGIN:VEVENT
UID:130534
DTSTAMP:20241106T163000
DTSTART:20241106T163000
DTEND:20241106T173000
SUMMARY:ESTATE AUCTION
LOCATION:1204 Campbell Avenue\, Liberty\, MO 64068\, US
DESCRIPTION:Aubrey "Deek" Deitrick Estate | Collectibles\, RR Memorabilia
 \, Vintage Toys\, Furniture\, Home Decor\, Household Goods\, & Mu
 ch More!
URL:https://www.auctionskc.com/auctions/detail/bw130534
SEQUENCE:1
END:VEVENT
END:VCALENDAR