BEGIN:VCALENDAR
VERSION:2.0
PRODID:-//ExpressionEngine Easy iCalendar plugin//NONSGML v2.0.0//EN
X-WR-TIMEZONE:America/Chicago
X-WR-CALNAME:Upcoming Auctions
BEGIN:VEVENT
UID:131109
DTSTAMP:20241116T103000
DTSTART:20241116T103000
DTEND:20241116T113000
SUMMARY:ESTATE AUCTION
LOCATION:2743 N. 75th Terrace\, Kansas City\, KS 66109\, US
DESCRIPTION:Phillip Sportsman Estate | Truck\, Trailer\, Guns\, Tools\, Coll
 ectibles\, Furniture\, Home Decor\, Household Goods\, & Much Mor
 e!
URL:https://www.auctionskc.com/auctions/detail/bw131109
SEQUENCE:1
END:VEVENT
END:VCALENDAR