BEGIN:VCALENDAR
VERSION:2.0
PRODID:-//ExpressionEngine Easy iCalendar plugin//NONSGML v2.0.0//EN
X-WR-TIMEZONE:America/Chicago
X-WR-CALNAME:Upcoming Auctions
BEGIN:VEVENT
UID:131265
DTSTAMP:20250405T180000
DTSTART:20250405T180000
DTEND:20250405T190000
SUMMARY:Louisburg Elementary PTO Annual Benefit Auction
LOCATION:24100 State Route D\, Cleveland\, MO 64734\, US
DESCRIPTION:Louisburg Elementary PTO Annual Benefit Auction
URL:https://www.auctionskc.com/auctions/detail/bw131265
SEQUENCE:1
END:VEVENT
END:VCALENDAR