BEGIN:VCALENDAR
VERSION:2.0
PRODID:-//ExpressionEngine Easy iCalendar plugin//NONSGML v2.0.0//EN
X-WR-TIMEZONE:America/Chicago
X-WR-CALNAME:Upcoming Auctions
BEGIN:VEVENT
UID:131655
DTSTAMP:20241201T110000
DTSTART:20241201T110000
DTEND:20241201T120000
SUMMARY:ESTATE AUCTION
LOCATION:8324 Hedges Avenue\, Raytown\, MO 64138\, US
DESCRIPTION:Kenneth & Etta McKenzie Estate | Lawn Tractor\, Collectibles
 \, Furniture\, Appliances\, Tools\, Outdoor Items\, Home Decor\, H
 ousehold Goods\, & Much More!
URL:https://www.auctionskc.com/auctions/detail/bw131655
SEQUENCE:1
END:VEVENT
END:VCALENDAR