BEGIN:VCALENDAR
VERSION:2.0
PRODID:-//ExpressionEngine Easy iCalendar plugin//NONSGML v2.0.0//EN
X-WR-TIMEZONE:America/Chicago
X-WR-CALNAME:Upcoming Auctions
BEGIN:VEVENT
UID:131959
DTSTAMP:20241129T163000
DTSTART:20241129T163000
DTEND:20241129T173000
SUMMARY:SPECIAL BLACK FRIDAY ESTATE AUCTION
LOCATION:14723 W. 65th Terrace\, Shawnee\, KS 66216\, US
DESCRIPTION:Terry Roberts Estate | Tons of Jewelry\, Collectibles\, Furnit
 ure\, Lots of Clothing\, Home Decor\, Household Goods\, & Much M
 ore!
URL:https://www.auctionskc.com/auctions/detail/bw131959
SEQUENCE:1
END:VEVENT
END:VCALENDAR