BEGIN:VCALENDAR
VERSION:2.0
PRODID:-//ExpressionEngine Easy iCalendar plugin//NONSGML v2.0.0//EN
X-WR-TIMEZONE:America/Chicago
X-WR-CALNAME:Upcoming Auctions
BEGIN:VEVENT
UID:131961
DTSTAMP:20241204T130000
DTSTART:20241204T130000
DTEND:20241204T140000
SUMMARY:VINTAGE TIME CAPSULE ESTATE AUCTION
LOCATION:6305 Waverly Avenue\, Kansas City\, KS 66104\, US
DESCRIPTION:Bessie Robinson Estate | Collectibles\, Furniture\, Vintage\, H
 ome Decor\, Household Goods\, & Much More!
URL:https://www.auctionskc.com/auctions/detail/bw131961
SEQUENCE:1
END:VEVENT
END:VCALENDAR