BEGIN:VCALENDAR
VERSION:2.0
PRODID:-//ExpressionEngine Easy iCalendar plugin//NONSGML v2.0.0//EN
X-WR-TIMEZONE:America/Chicago
X-WR-CALNAME:Upcoming Auctions
BEGIN:VEVENT
UID:133074
DTSTAMP:20241223T190000
DTSTART:20241223T190000
DTEND:20241226T190000
SUMMARY:ONLINE ONLY ESTATE AUCTION
LOCATION:10505 E. 27th Street South\, Independence\, MO 64052\, US
DESCRIPTION:Estate of David McKiddie | Collectibles\, Furniture\, Tools\, H
 ome Decor\, Household Goods\, & Much More!!
URL:https://www.auctionskc.com/auctions/detail/bw133074
SEQUENCE:1
END:VEVENT
END:VCALENDAR