BEGIN:VCALENDAR
VERSION:2.0
PRODID:-//ExpressionEngine Easy iCalendar plugin//NONSGML v2.0.0//EN
X-WR-TIMEZONE:America/Chicago
X-WR-CALNAME:Upcoming Auctions
BEGIN:VEVENT
UID:133292
DTSTAMP:20250106T170000
DTSTART:20250106T170000
DTEND:20250106T180000
SUMMARY:ANTIQUE & ESTATE AUCTION
LOCATION:6805 Sobbie Road\, Pleasant Valley\, MO 64068\, US
DESCRIPTION:Private Seller | RESCHEDULED TO MONDAY\, JANUARY 6th 5PM! Fir
 earms\, Antiques\, Collectibles\, Jewelry\, Vintage\, & Much More
 !
URL:https://www.auctionskc.com/auctions/detail/bw133292
SEQUENCE:1
END:VEVENT
END:VCALENDAR