BEGIN:VCALENDAR
VERSION:2.0
PRODID:-//ExpressionEngine Easy iCalendar plugin//NONSGML v2.0.0//EN
X-WR-TIMEZONE:America/Chicago
X-WR-CALNAME:Upcoming Auctions
BEGIN:VEVENT
UID:133313
DTSTAMP:20250112T110000
DTSTART:20250112T110000
DTEND:20250112T120000
SUMMARY:ANTIQUE ESTATE AUCTION
LOCATION:6805 Sobbie Road\, Pleasant Valley\, MO 64068\, US
DESCRIPTION:Private Estate | Firearms\, Antiques\, Furniture\, Collectible
 s\, Jewelry\, Art & Much More!
URL:https://www.auctionskc.com/auctions/detail/bw133313
SEQUENCE:1
END:VEVENT
END:VCALENDAR