BEGIN:VCALENDAR
VERSION:2.0
PRODID:-//ExpressionEngine Easy iCalendar plugin//NONSGML v2.0.0//EN
X-WR-TIMEZONE:America/Chicago
X-WR-CALNAME:Upcoming Auctions
BEGIN:VEVENT
UID:133902
DTSTAMP:20250125T103000
DTSTART:20250125T103000
DTEND:20250125T113000
SUMMARY:CANCELLED! REAL ESTATE AUCTION
LOCATION:2415 E. 126th Street\, Kansas City\, MO 64146\, US
DESCRIPTION:SELLERS HAVE SOLD A PRE AUCTION OFFER! William & Deloris Ray
  Estate | Spacious True Ranch on 1+ Acre Lot in Quiet SKC Ne
 ighborhood!
URL:https://www.auctionskc.com/auctions/detail/bw133902
SEQUENCE:1
END:VEVENT
END:VCALENDAR