BEGIN:VCALENDAR
VERSION:2.0
PRODID:-//ExpressionEngine Easy iCalendar plugin//NONSGML v2.0.0//EN
X-WR-TIMEZONE:America/Chicago
X-WR-CALNAME:Upcoming Auctions
BEGIN:VEVENT
UID:134103
DTSTAMP:20250116T190000
DTSTART:20250116T190000
DTEND:20250123T190000
SUMMARY:COURT ORDERED STORAGE UNIT AUCTION
LOCATION:715 Missouri 7\, Blue Springs\, MO 64014\, US
DESCRIPTION:(1) Non-Delinquent Storage Unit
URL:https://www.auctionskc.com/auctions/detail/bw134103
SEQUENCE:1
END:VEVENT
END:VCALENDAR