BEGIN:VCALENDAR
VERSION:2.0
PRODID:-//ExpressionEngine Easy iCalendar plugin//NONSGML v2.0.0//EN
X-WR-TIMEZONE:America/Chicago
X-WR-CALNAME:Upcoming Auctions
BEGIN:VEVENT
UID:134164
DTSTAMP:20250117T233000
DTSTART:20250117T233000
DTEND:20250126T190000
SUMMARY:RETIRED PHARMACIST LIVING ESTATE AUCTION
LOCATION:5955 W. 167th Street\, Stilwell\, KS 66206\, US
DESCRIPTION:Living Estate of John Cooley | Vehicle\, Collectibles\, Furnit
 ure\, Tools\, Household Goods\, & Much More!
URL:https://www.auctionskc.com/auctions/detail/bw134164
SEQUENCE:1
END:VEVENT
END:VCALENDAR