BEGIN:VCALENDAR
VERSION:2.0
PRODID:-//ExpressionEngine Easy iCalendar plugin//NONSGML v2.0.0//EN
X-WR-TIMEZONE:America/Chicago
X-WR-CALNAME:Upcoming Auctions
BEGIN:VEVENT
UID:134487
DTSTAMP:20250202T110000
DTSTART:20250202T110000
DTEND:20250202T120000
SUMMARY:EXCEPTIONAL ESTATE & CONSIGNMENT LIVE AUCTION
LOCATION:6805 Sobbie Road\, Pleasant Valley\, MO 64068\, US
DESCRIPTION:ACCEPTING QUALITY CONSIGNMENTS! | Estate of H. Fred Skaggs 
 & Others | Antiques\, Collectibles\, Art\, Jewelry\, Coins\, Furn
 iture\, Vintage\, & Much More!
URL:https://www.auctionskc.com/auctions/detail/bw134487
SEQUENCE:1
END:VEVENT
END:VCALENDAR