BEGIN:VCALENDAR
VERSION:2.0
PRODID:-//ExpressionEngine Easy iCalendar plugin//NONSGML v2.0.0//EN
X-WR-TIMEZONE:America/Chicago
X-WR-CALNAME:Upcoming Auctions
BEGIN:VEVENT
UID:134797
DTSTAMP:20250206T130000
DTSTART:20250206T130000
DTEND:20250206T140000
SUMMARY:TRUST ORDERED AUCTION 1 of 2
LOCATION:6831 E. 39th Street\, Kansas City\, MO 64129\, US
DESCRIPTION:Bedford M. Fishback Trust | Vehicles\, Tractors\, Trailers\, In
 dustrial Items\, Tools\, Scrap\, & Much More!
URL:https://www.auctionskc.com/auctions/detail/bw134797
SEQUENCE:1
END:VEVENT
END:VCALENDAR