BEGIN:VCALENDAR
VERSION:2.0
PRODID:-//ExpressionEngine Easy iCalendar plugin//NONSGML v2.0.0//EN
X-WR-TIMEZONE:America/Chicago
X-WR-CALNAME:Upcoming Auctions
BEGIN:VEVENT
UID:134798
DTSTAMP:20250208T110000
DTSTART:20250208T110000
DTEND:20250208T120000
SUMMARY:TRUST ORDERED AUCTION 2 of 2
LOCATION:7626 Hardy Street\, Overland Park\, KS 66204\, US
DESCRIPTION:Bedford M. Fishback Trust | Vehicles\, Boats\, Collectibles\, F
 urniture\, Tools\, Home Decor\, Household Goods\, & Much More!
URL:https://www.auctionskc.com/auctions/detail/bw134798
SEQUENCE:1
END:VEVENT
END:VCALENDAR