BEGIN:VCALENDAR
VERSION:2.0
PRODID:-//ExpressionEngine Easy iCalendar plugin//NONSGML v2.0.0//EN
X-WR-TIMEZONE:America/Chicago
X-WR-CALNAME:Upcoming Auctions
BEGIN:VEVENT
UID:136496
DTSTAMP:20250311T160000
DTSTART:20250311T160000
DTEND:20250311T170000
SUMMARY:REAL ESTATE & PERSONAL PROPERTY AUCTION
LOCATION:1207 N. Indian Lane\, Independence\, MO 64056\, US
DESCRIPTION:Margaret Elliott Estate | Real Estate\, Collectibles\, Dolls\, 
 Vintage/Retro\, Furniture\, Yard Art\, Appliances\, Home Decor\, 
 Household Goods\, & Much More!
URL:https://www.auctionskc.com/auctions/detail/bw136496
SEQUENCE:1
END:VEVENT
END:VCALENDAR