BEGIN:VCALENDAR
VERSION:2.0
PRODID:-//ExpressionEngine Easy iCalendar plugin//NONSGML v2.0.0//EN
X-WR-TIMEZONE:America/Chicago
X-WR-CALNAME:Upcoming Auctions
BEGIN:VEVENT
UID:136756
DTSTAMP:20250316T110000
DTSTART:20250316T110000
DTEND:20250316T120000
SUMMARY:ANTIQUE COLLECTOR'S AUCTION
LOCATION:6805 Sobbie Road\, Pleasant Valley\, MO 64068\, US
DESCRIPTION:Private Seller | UTV\, Golf Cart\, Antiques\, Collectibles\, Sig
 ns\, Toys\, Glassware\, & Much More!
URL:https://www.auctionskc.com/auctions/detail/bw136756
SEQUENCE:1
END:VEVENT
END:VCALENDAR