BEGIN:VCALENDAR
VERSION:2.0
PRODID:-//ExpressionEngine Easy iCalendar plugin//NONSGML v2.0.0//EN
X-WR-TIMEZONE:America/Chicago
X-WR-CALNAME:Upcoming Auctions
BEGIN:VEVENT
UID:136759
DTSTAMP:20250619T183000
DTSTART:20250619T183000
DTEND:20250619T193000
SUMMARY:Annual
LOCATION:6415 N. National Drive\, Kansas City\, MO 64152\, US
DESCRIPTION:Annual "Windbrooker" Golf Calcutta Auction | The Bluffs at t
 he National Golf Club of Kansas City
URL:https://www.auctionskc.com/auctions/detail/bw136759
SEQUENCE:1
END:VEVENT
END:VCALENDAR