BEGIN:VCALENDAR
VERSION:2.0
PRODID:-//ExpressionEngine Easy iCalendar plugin//NONSGML v2.0.0//EN
X-WR-TIMEZONE:America/Chicago
X-WR-CALNAME:Upcoming Auctions
BEGIN:VEVENT
UID:136761
DTSTAMP:20250718T183000
DTSTART:20250718T183000
DTEND:20250718T193000
SUMMARY:Annual
LOCATION:5900 NW Tiffany Springs Parkway\, Kansas City\, MO 64154\, US
DESCRIPTION:Annual Golf Calcutta Auction | Tiffany Greens Golf Club
URL:https://www.auctionskc.com/auctions/detail/bw136761
SEQUENCE:1
END:VEVENT
END:VCALENDAR