BEGIN:VCALENDAR
VERSION:2.0
PRODID:-//ExpressionEngine Easy iCalendar plugin//NONSGML v2.0.0//EN
X-WR-TIMEZONE:America/Chicago
X-WR-CALNAME:Upcoming Auctions
BEGIN:VEVENT
UID:137651
DTSTAMP:20250401T140000
DTSTART:20250401T140000
DTEND:20250401T150000
SUMMARY:INDOOR PRIVATE CELEBRITY MYSTERY AUCTION
LOCATION:1350 Woodswether Road\, Kansas City\, MO 64105\, US
DESCRIPTION:Private Seller | Antiques\, Collectibles\, Furniture\, Clothing
 \, Home Decor\, Household Goods\, & Much More!
URL:https://www.auctionskc.com/auctions/detail/bw137651
SEQUENCE:1
END:VEVENT
END:VCALENDAR