BEGIN:VCALENDAR
VERSION:2.0
PRODID:-//ExpressionEngine Easy iCalendar plugin//NONSGML v2.0.0//EN
X-WR-TIMEZONE:America/Chicago
X-WR-CALNAME:Upcoming Auctions
BEGIN:VEVENT
UID:137729
DTSTAMP:20250406T110000
DTSTART:20250406T110000
DTEND:20250406T120000
SUMMARY:COLOSSAL LIFETIME COOKIE JAR COLLECTION AUCTION
LOCATION:5802 Trott Road\, Belton\, MO 64012\, US
DESCRIPTION:Estate of Lavona F. "Bonnie Crume" | Unbelievable Lifetime 
 Collection of Cookie Jars!
URL:https://www.auctionskc.com/auctions/detail/bw137729
SEQUENCE:1
END:VEVENT
END:VCALENDAR